BEGIN:VCALENDAR
VERSION:2.0
PRODID:-//The Garage Bar &amp; Grill - ECPv6.15.13//NONSGML v1.0//EN
CALSCALE:GREGORIAN
METHOD:PUBLISH
X-WR-CALNAME:The Garage Bar &amp; Grill
X-ORIGINAL-URL:https://thegaragekitsap.com
X-WR-CALDESC:Events for The Garage Bar &amp; Grill
REFRESH-INTERVAL;VALUE=DURATION:PT1H
X-Robots-Tag:noindex
X-PUBLISHED-TTL:PT1H
BEGIN:VTIMEZONE
TZID:America/Los_Angeles
BEGIN:DAYLIGHT
TZOFFSETFROM:-0800
TZOFFSETTO:-0700
TZNAME:PDT
DTSTART:20230312T100000
END:DAYLIGHT
BEGIN:STANDARD
TZOFFSETFROM:-0700
TZOFFSETTO:-0800
TZNAME:PST
DTSTART:20231105T090000
END:STANDARD
BEGIN:DAYLIGHT
TZOFFSETFROM:-0800
TZOFFSETTO:-0700
TZNAME:PDT
DTSTART:20240310T100000
END:DAYLIGHT
BEGIN:STANDARD
TZOFFSETFROM:-0700
TZOFFSETTO:-0800
TZNAME:PST
DTSTART:20241103T090000
END:STANDARD
BEGIN:DAYLIGHT
TZOFFSETFROM:-0800
TZOFFSETTO:-0700
TZNAME:PDT
DTSTART:20250309T100000
END:DAYLIGHT
BEGIN:STANDARD
TZOFFSETFROM:-0700
TZOFFSETTO:-0800
TZNAME:PST
DTSTART:20251102T090000
END:STANDARD
END:VTIMEZONE
BEGIN:VEVENT
DTSTART;TZID=America/Los_Angeles:20240703T060000
DTEND;TZID=America/Los_Angeles:20240703T140000
DTSTAMP:20260423T173605
CREATED:20240722T030307Z
LAST-MODIFIED:20240722T030307Z
UID:8753-1719986400-1720015200@thegaragekitsap.com
SUMMARY:Steak Breakfast!
DESCRIPTION:
URL:https://thegaragekitsap.com/event/steak-breakfast/
ATTACH;FMTTYPE=image/jpeg:https://thegaragekitsap.com/wp-content/uploads/steak-menu-breakfast-scaled.jpg
END:VEVENT
BEGIN:VEVENT
DTSTART;TZID=America/Los_Angeles:20240722T140000
DTEND;TZID=America/Los_Angeles:20240722T180000
DTSTAMP:20260423T173605
CREATED:20240722T015358Z
LAST-MODIFIED:20240722T015358Z
UID:8741-1721656800-1721671200@thegaragekitsap.com
SUMMARY:Happy Hour!
DESCRIPTION:
URL:https://thegaragekitsap.com/event/happy-hour/
ATTACH;FMTTYPE=image/jpeg:https://thegaragekitsap.com/wp-content/uploads/2022/01/happyhour.jpg
END:VEVENT
BEGIN:VEVENT
DTSTART;TZID=America/Los_Angeles:20241003T210000
DTEND;TZID=America/Los_Angeles:20241004T010000
DTSTAMP:20260423T173605
CREATED:20241027T235604Z
LAST-MODIFIED:20241028T000438Z
UID:8801-1727989200-1728003600@thegaragekitsap.com
SUMMARY:Karaoke Night!
DESCRIPTION:
URL:https://thegaragekitsap.com/event/karaoke-night/
END:VEVENT
END:VCALENDAR